BEGIN:VCALENDAR
VERSION:2.0
PRODID:spatie/icalendar-generator
DESCRIPTION:Händelser från Vessigebro BK
X-WR-CALDESC:Händelser från Vessigebro BK
REFRESH-INTERVAL;VALUE=DURATION:PT1440M
X-PUBLISHED-TTL:PT1440M
BEGIN:VTIMEZONE
TZID:Europe/Stockholm
BEGIN:STANDARD
DTSTART:20211031T030000Z
TZOFFSETFROM:+0200
TZOFFSETTO:+0100
END:STANDARD
BEGIN:DAYLIGHT
DTSTART:20220327T020000Z
TZOFFSETFROM:+0100
TZOFFSETTO:+0200
END:DAYLIGHT
BEGIN:STANDARD
DTSTART:20221030T030000Z
TZOFFSETFROM:+0200
TZOFFSETTO:+0100
END:STANDARD
END:VTIMEZONE
BEGIN:VTIMEZONE
TZID:UTC
BEGIN:STANDARD
DTSTART:20250729T115741Z
TZOFFSETFROM:+0000
TZOFFSETTO:+0000
END:STANDARD
END:VTIMEZONE
BEGIN:VEVENT
UID:1-1
DTSTAMP:20260425T115741Z
SUMMARY:Demo: Florence Price: Symphony No. 3 in c minor
LOCATION:Demo: Minnesota Orchestra 1111 Nicollet Mall  Minneapolis MN 55403
ORGANIZER;CN=VessigebroBK_admin:MAILTO:wp@hayit.se
DTSTART;TZID=Europe/Stockholm:20220611T193000
DTEND;TZID=Europe/Stockholm:20220611T210000
X-ALT-DESC;FMTTYPE=TEXT/HTML:<p>Florence Price's Symphony No.3 was first pe
 rformed on November 6th\, 1940. It was Ms. Price's third symphony\, follow
 ing her lost Symphony No. 2</p>\n
CATEGORIES:General
URL;VALUE=URI:https://vessigebrobk.se/mc-events/demo-florence-price-symphon
 y-no-3-in-c-minor/
METHOD:PUBLISH
END:VEVENT
END:VCALENDAR